BEGIN:VCALENDAR
VERSION:2.0
PRODID:-//TYPO3/NONSGML Calendarize//EN
BEGIN:VEVENT
UID:calendarize-wunschkonzert-der-mmk-pram-3
DTSTAMP:20260424T231652
DTSTART:20261128T193000
DTEND:20261128T220000
SUMMARY:Wunschkonzert der MMK Pram
DESCRIPTION:
X-ALT-DESC;FMTTYPE=text/html:
LOCATION:Mehrzweckhalle Pram
END:VEVENT
END:VCALENDAR
