BEGIN:VCALENDAR
VERSION:2.0
PRODID:-//TYPO3/NONSGML Calendarize//EN
BEGIN:VEVENT
UID:calendarize-wein-trifft-musik-2
DTSTAMP:20260424T204222
DTSTART:20261024T193000
DTEND:20261024T213000
SUMMARY:Wein trifft Musik
DESCRIPTION:
X-ALT-DESC;FMTTYPE=text/html:
LOCATION:Kitzmantelfabrik Vorchdorf
END:VEVENT
END:VCALENDAR
