BEGIN:VCALENDAR
VERSION:2.0
PRODID:-//TYPO3/NONSGML Calendarize//EN
BEGIN:VEVENT
UID:calendarize-vereinskonzert-mv-pabneukirchen-3
DTSTAMP:20260424T220315
DTSTART:20261107T193000
DTEND:20261107T220000
SUMMARY:Vereinskonzert MV Pabneukirchen
DESCRIPTION:
X-ALT-DESC;FMTTYPE=text/html:
LOCATION:Turnsaal Mittelschule Pabneukirchen
END:VEVENT
END:VCALENDAR
