BEGIN:VCALENDAR
VERSION:2.0
PRODID:-//TYPO3/NONSGML Calendarize//EN
BEGIN:VEVENT
UID:calendarize-stadtteilkonzert-musikverein-st-magdalena-1
DTSTAMP:20260424T192256
DTSTART:20260707T210000
DTEND:20260707T220000
SUMMARY:Stadtteilkonzert - Musikverein St. Magdalena
DESCRIPTION:
X-ALT-DESC;FMTTYPE=text/html:
LOCATION:AEC
END:VEVENT
END:VCALENDAR
