BEGIN:VCALENDAR
VERSION:2.0
PRODID:-//TYPO3/NONSGML Calendarize//EN
BEGIN:VEVENT
UID:calendarize-stadtteilkonzert-musikverein-ebelsberg-pichling-2
DTSTAMP:20260424T192320
DTSTART:20260612T180000
DTEND:20260612T190000
SUMMARY:Stadtteilkonzert - Musikverein Ebelsberg-Pichling
DESCRIPTION:
X-ALT-DESC;FMTTYPE=text/html:
LOCATION:Solar City
END:VEVENT
END:VCALENDAR
