BEGIN:VCALENDAR
VERSION:2.0
PRODID:-//TYPO3/NONSGML Calendarize//EN
BEGIN:VEVENT
UID:calendarize-stadtteilkonzert-musikkapelle-der-kleinmuenchner-3
DTSTAMP:20260424T191945
DTSTART:20260623T160000
DTEND:20260623T170000
SUMMARY:Stadtteilkonzert - Musikkapelle der Kleinmünchner
DESCRIPTION:
X-ALT-DESC;FMTTYPE=text/html:
LOCATION:SZ Kleinmünchen
END:VEVENT
END:VCALENDAR
