BEGIN:VCALENDAR
VERSION:2.0
PRODID:-//TYPO3/NONSGML Calendarize//EN
BEGIN:VEVENT
UID:calendarize-stadtteilkonzert-musikkapelle-der-kleinmuenchner-2
DTSTAMP:20260424T191947
DTSTART:20260528T180000
DTEND:20260528T190000
SUMMARY:Stadtteilkonzert - Musikkapelle der Kleinmünchner
DESCRIPTION:
X-ALT-DESC;FMTTYPE=text/html:
LOCATION:SZ Spallerhof
END:VEVENT
END:VCALENDAR
