BEGIN:VCALENDAR
VERSION:2.0
PRODID:-//TYPO3/NONSGML Calendarize//EN
BEGIN:VEVENT
UID:calendarize-stadtteilkonzert-bezirks-jugendorchester-linz-stadt
DTSTAMP:20260424T204720
DTSTART:20260731T190000
DTEND:20260731T200000
SUMMARY:Stadtteilkonzert - Bezirks-Jugendorchester Linz-Stadt
DESCRIPTION:
X-ALT-DESC;FMTTYPE=text/html:
LOCATION:Lentos Kunstmuseum Linz
END:VEVENT
END:VCALENDAR
