BEGIN:VCALENDAR
VERSION:2.0
PRODID:-//TYPO3/NONSGML Calendarize//EN
BEGIN:VEVENT
UID:calendarize-stadtklaenge-altheim
DTSTAMP:20260424T191648
DTSTART:20260516T200000
DTEND:20260516T220000
SUMMARY:Stadtklänge Altheim
DESCRIPTION:Gemeinschaftskonzert der drei Kapellen SMK Altheim\, MV Kirchd
 orf am Inn und TMK Mining.\nErsatztermin: Sonntag\, 17. Mai 2026 (bei Schl
 echtwetter in Rudolf Wimmer Halle\, Altheim) \n
X-ALT-DESC;FMTTYPE=text/html:Gemeinschaftskonzert der drei Kapellen SMK Al
 theim\, MV Kirchdorf am Inn und TMK Mining.\nErsatztermin: Sonntag\, 17. M
 ai 2026 (bei Schlechtwetter in Rudolf Wimmer Halle\, Altheim) \n
LOCATION:Stadtplatz Altheim
END:VEVENT
END:VCALENDAR
