BEGIN:VCALENDAR
VERSION:2.0
PRODID:-//TYPO3/NONSGML Calendarize//EN
BEGIN:VEVENT
UID:calendarize-sommernachtskonzert-bjo-wels
DTSTAMP:20260424T204114
DTSTART:20260719T170000
DTEND:20260719T190000
SUMMARY:Sommernachtskonzert BJO Wels
DESCRIPTION:
X-ALT-DESC;FMTTYPE=text/html:
LOCATION:Stadl-Paura
END:VEVENT
END:VCALENDAR
