BEGIN:VCALENDAR
VERSION:2.0
PRODID:-//TYPO3/NONSGML Calendarize//EN
BEGIN:VEVENT
UID:calendarize-sommernachtskonzert-20
DTSTAMP:20260424T191544
DTSTART:20260603T200000
DTEND:20260603T230000
SUMMARY:Sommernachtskonzert
DESCRIPTION:
X-ALT-DESC;FMTTYPE=text/html:
LOCATION:Raiffeisenplatz Gunskirchen (VZ)
END:VEVENT
END:VCALENDAR
