BEGIN:VCALENDAR
VERSION:2.0
PRODID:-//TYPO3/NONSGML Calendarize//EN
BEGIN:VEVENT
UID:calendarize-sommerkonzert-2
DTSTAMP:20260424T191644
DTSTART:20260516T160000
SUMMARY:Sommerkonzert
DESCRIPTION:
X-ALT-DESC;FMTTYPE=text/html:
LOCATION:Sankt Thomas
END:VEVENT
END:VCALENDAR
