BEGIN:VCALENDAR
VERSION:2.0
PRODID:-//TYPO3/NONSGML Calendarize//EN
BEGIN:VEVENT
UID:calendarize-sommer-open-air-konzert
DTSTAMP:20260424T191655
DTSTART:20260711T190000
DTEND:20260711T210000
SUMMARY:Sommer-Open-Air Konzert
DESCRIPTION:
X-ALT-DESC;FMTTYPE=text/html:
LOCATION:ABZ Lambach
END:VEVENT
END:VCALENDAR
