BEGIN:VCALENDAR
VERSION:2.0
PRODID:-//TYPO3/NONSGML Calendarize//EN
BEGIN:VEVENT
UID:calendarize-silvesterkonzert-2026
DTSTAMP:20260425T004221
DTSTART:20261230T200000
DTEND:20261230T220000
SUMMARY:Silvesterkonzert
DESCRIPTION:
X-ALT-DESC;FMTTYPE=text/html:
LOCATION:Dreifachturnhalle Lambach
END:VEVENT
END:VCALENDAR
