BEGIN:VCALENDAR
VERSION:2.0
PRODID:-//TYPO3/NONSGML Calendarize//EN
BEGIN:VEVENT
UID:calendarize-schlosskonzert-seeschloss-ort-in-gmunden
DTSTAMP:20260424T192219
DTSTART:20260617T193000
DTEND:20260617T210000
SUMMARY:Schlosskonzert\, TMK Bad Wimsbach-Neydharting
DESCRIPTION:
X-ALT-DESC;FMTTYPE=text/html:
LOCATION:Seeschloss Ort / Gmunden
END:VEVENT
END:VCALENDAR
