BEGIN:VCALENDAR
VERSION:2.0
PRODID:-//TYPO3/NONSGML Calendarize//EN
BEGIN:VEVENT
UID:calendarize-route-66
DTSTAMP:20260424T231350
DTSTART:20261122T160000
DTEND:20261122T180000
SUMMARY:“Route 66”
DESCRIPTION:
X-ALT-DESC;FMTTYPE=text/html:
LOCATION:VH Neue Heimat
END:VEVENT
END:VCALENDAR
