BEGIN:VCALENDAR
VERSION:2.0
PRODID:-//TYPO3/NONSGML Calendarize//EN
BEGIN:VEVENT
UID:calendarize-platzkonzert-mv-poestlingberg
DTSTAMP:20260424T204240
DTSTART:20260804T190000
DTEND:20260804T200000
SUMMARY:Platzkonzert - MV Pöstlingberg
DESCRIPTION:
X-ALT-DESC;FMTTYPE=text/html:
LOCATION:Hauptplatz (https://www.in-linz-erklingts.at)
END:VEVENT
END:VCALENDAR
