BEGIN:VCALENDAR
VERSION:2.0
PRODID:-//TYPO3/NONSGML Calendarize//EN
BEGIN:VEVENT
UID:calendarize-platzkonzert-mk-der-kleinmuenchner-1
DTSTAMP:20260424T191714
DTSTART:20260609T190000
DTEND:20260609T200000
SUMMARY:Platzkonzert - MK der Kleinmünchner
DESCRIPTION:
X-ALT-DESC;FMTTYPE=text/html:
LOCATION:Hauptplatz (https://www.in-linz-erklingts.at)
END:VEVENT
END:VCALENDAR
