BEGIN:VCALENDAR
VERSION:2.0
PRODID:-//TYPO3/NONSGML Calendarize//EN
BEGIN:VEVENT
UID:calendarize-platzkonzert-linz-ag-musik-3
DTSTAMP:20260424T191805
DTSTART:20260623T190000
DTEND:20260623T200000
SUMMARY:Platzkonzert - Linz AG Musik
DESCRIPTION:
X-ALT-DESC;FMTTYPE=text/html:
LOCATION:Hauptplatz (https://www.in-linz-erklingts.at)
END:VEVENT
END:VCALENDAR
