BEGIN:VCALENDAR
VERSION:2.0
PRODID:-//TYPO3/NONSGML Calendarize//EN
BEGIN:VEVENT
UID:calendarize-platzkonzert-energie-ag-musik-1
DTSTAMP:20260424T191932
DTSTART:20260616T190000
DTEND:20260616T200000
SUMMARY:Platzkonzert - Energie AG Musik
DESCRIPTION:
X-ALT-DESC;FMTTYPE=text/html:
LOCATION:Hauptplatz (https://www.in-linz-erklingts.at)
END:VEVENT
END:VCALENDAR
