BEGIN:VCALENDAR
VERSION:2.0
PRODID:-//TYPO3/NONSGML Calendarize//EN
BEGIN:VEVENT
UID:calendarize-platzkonzert-bundesbahnmusik-linz-2
DTSTAMP:20260424T204314
DTSTART:20260811T190000
DTEND:20260811T200000
SUMMARY:Platzkonzert - Bundesbahnmusik Linz
DESCRIPTION:
X-ALT-DESC;FMTTYPE=text/html:
LOCATION:Hauptplatz (https://www.in-linz-erklingts.at)
END:VEVENT
END:VCALENDAR
