BEGIN:VCALENDAR
VERSION:2.0
PRODID:-//TYPO3/NONSGML Calendarize//EN
BEGIN:VEVENT
UID:calendarize-platzkonzert-4
DTSTAMP:20260424T191535
DTSTART:20260615T200000
DTEND:20260615T210000
SUMMARY:Platzkonzert
DESCRIPTION:
X-ALT-DESC;FMTTYPE=text/html:
LOCATION:Wels\, Pfarrplatz Vogelweide (Pfarrplatz Vogelweide -  Wels)
END:VEVENT
END:VCALENDAR
