BEGIN:VCALENDAR
VERSION:2.0
PRODID:-//TYPO3/NONSGML Calendarize//EN
BEGIN:VEVENT
UID:calendarize-pfingst-open-air-1
DTSTAMP:20260424T191657
DTSTART:20260523T200000
DTEND:20260523T220000
SUMMARY:PFINGST OPEN-AIR
DESCRIPTION:
X-ALT-DESC;FMTTYPE=text/html:
LOCATION:Marktplatz Mettmach
END:VEVENT
END:VCALENDAR
