BEGIN:VCALENDAR
VERSION:2.0
PRODID:-//TYPO3/NONSGML Calendarize//EN
BEGIN:VEVENT
UID:calendarize-pavillonkonzert-im-musikpavillon-nussdorf-am-attersee-4
DTSTAMP:20260424T204556
DTSTART:20260730T203000
DTEND:20260730T213000
SUMMARY:Pavillonkonzert des Musikvereins Nußdorf am Attersee
DESCRIPTION:
X-ALT-DESC;FMTTYPE=text/html:
LOCATION:Musikpavillon Nußdorf am Attersee
END:VEVENT
END:VCALENDAR
