BEGIN:VCALENDAR
VERSION:2.0
PRODID:-//TYPO3/NONSGML Calendarize//EN
BEGIN:VEVENT
UID:calendarize-pavillonkonzert-im-musikpavillon-nussdorf-am-attersee-3
DTSTAMP:20260424T204557
DTSTART:20260813T200000
DTEND:20260813T210000
SUMMARY:Pavillonkonzert des Musikvereins Nußdorf am Attersee
DESCRIPTION:
X-ALT-DESC;FMTTYPE=text/html:
LOCATION:Musikpavillon Nußdorf am Attersee
END:VEVENT
END:VCALENDAR
