BEGIN:VCALENDAR
VERSION:2.0
PRODID:-//TYPO3/NONSGML Calendarize//EN
BEGIN:VEVENT
UID:calendarize-open-air-bkm-sierning
DTSTAMP:20260424T204120
DTSTART:20260905T193000
DTEND:20260905T220000
SUMMARY:OPEN Air BKM Sierning
DESCRIPTION:
X-ALT-DESC;FMTTYPE=text/html:
LOCATION:Sierning
END:VEVENT
END:VCALENDAR
