BEGIN:VCALENDAR
VERSION:2.0
PRODID:-//TYPO3/NONSGML Calendarize//EN
BEGIN:VEVENT
UID:calendarize-neujahrskonzert-mv-pfarrkirchen-1
DTSTAMP:20260425T004231
DTSTART:20270105T200000
DTEND:20270105T230000
SUMMARY:Neujahrskonzert MV Pfarrkirchen
DESCRIPTION:
X-ALT-DESC;FMTTYPE=text/html:
LOCATION:Alfons Dorfner Halle Lembach
END:VEVENT
END:VCALENDAR
