BEGIN:VCALENDAR
VERSION:2.0
PRODID:-//TYPO3/NONSGML Calendarize//EN
BEGIN:VEVENT
UID:calendarize-musikfest-mit-marschwertung-moosdorf
DTSTAMP:20260424T191943
DTSTART:20260612T000000
DTEND:20260614T000000
SUMMARY:Musikfest mit Marschwertung
DESCRIPTION:
X-ALT-DESC;FMTTYPE=text/html:
LOCATION:
END:VEVENT
END:VCALENDAR
