BEGIN:VCALENDAR
VERSION:2.0
PRODID:-//TYPO3/NONSGML Calendarize//EN
BEGIN:VEVENT
UID:calendarize-marschwertung-waldneukirchen
DTSTAMP:20260424T191656
DTSTART:20260620T000000
DTEND:20260620T000000
SUMMARY:Marschwertung Waldneukirchen
DESCRIPTION:
X-ALT-DESC;FMTTYPE=text/html:
LOCATION:Waldneukirchen
END:VEVENT
END:VCALENDAR
