BEGIN:VCALENDAR
VERSION:2.0
PRODID:-//TYPO3/NONSGML Calendarize//EN
BEGIN:VEVENT
UID:calendarize-marschwertung-inzersdorf
DTSTAMP:20260424T191749
DTSTART:20260627T000000
DTEND:20260627T000000
SUMMARY:Marschwertung Inzersdorf
DESCRIPTION:
X-ALT-DESC;FMTTYPE=text/html:
LOCATION:Inzersdorf
END:VEVENT
END:VCALENDAR
