BEGIN:VCALENDAR
VERSION:2.0
PRODID:-//TYPO3/NONSGML Calendarize//EN
BEGIN:VEVENT
UID:calendarize-kooperationskonzert-mit-universitaetsorchester
DTSTAMP:20260424T191808
DTSTART:20260616T200000
DTEND:20260616T220000
SUMMARY:Kooperationskonzert mit Universitätsorchester
DESCRIPTION:
X-ALT-DESC;FMTTYPE=text/html:
LOCATION:Schloss Auhof (Campus JKU)
END:VEVENT
END:VCALENDAR
