BEGIN:VCALENDAR
VERSION:2.0
PRODID:-//TYPO3/NONSGML Calendarize//EN
BEGIN:VEVENT
UID:calendarize-konzertwertung-5
DTSTAMP:20260424T204122
DTSTART;VALUE=DATE:20261107
DTEND;VALUE=DATE:20261108
SUMMARY:Konzertwertung
DESCRIPTION:
X-ALT-DESC;FMTTYPE=text/html:
LOCATION:Kulturzentrum Bräuhaus\, Eferding
END:VEVENT
END:VCALENDAR
