BEGIN:VCALENDAR
VERSION:2.0
PRODID:-//TYPO3/NONSGML Calendarize//EN
BEGIN:VEVENT
UID:calendarize-konzertwertung-4
DTSTAMP:20260424T220010
DTSTART:20261114T090000
DTEND:20261115T170000
SUMMARY:Konzertwertung
DESCRIPTION:Konzertwertung Bezirk Ried im oöv Saal
X-ALT-DESC;FMTTYPE=text/html:Konzertwertung Bezirk Ried im oöv Saal
LOCATION:Ried im Innkreis 
END:VEVENT
END:VCALENDAR
