BEGIN:VCALENDAR
VERSION:2.0
PRODID:-//TYPO3/NONSGML Calendarize//EN
BEGIN:VEVENT
UID:calendarize-konzertwertung-2026
DTSTAMP:20260424T220027
DTSTART:20261107T120000
DTEND:20261107T190000
SUMMARY:Konzertwertung 2026
DESCRIPTION:
X-ALT-DESC;FMTTYPE=text/html:
LOCATION:Kitzmantelfabrik/Vorchdorf
END:VEVENT
END:VCALENDAR
