BEGIN:VCALENDAR
VERSION:2.0
PRODID:-//TYPO3/NONSGML Calendarize//EN
BEGIN:VEVENT
UID:calendarize-konzert-stk-kirchdorf-krems-1
DTSTAMP:20260424T233413
DTSTART:20261208T180000
SUMMARY:Konzert STK Kirchdorf/Krems
DESCRIPTION:
X-ALT-DESC;FMTTYPE=text/html:
LOCATION:Stadthalle Kirchdorf
END:VEVENT
END:VCALENDAR
