BEGIN:VCALENDAR
VERSION:2.0
PRODID:-//TYPO3/NONSGML Calendarize//EN
BEGIN:VEVENT
UID:calendarize-konzert-jbo-boehmerwald
DTSTAMP:20260424T174954
DTSTART:20260424T180000
DTEND:20260424T200000
SUMMARY:Konzert JBO Böhmerwald
DESCRIPTION:Herzliche Einladung zum Konzert des JBO Böhmerwald!
X-ALT-DESC;FMTTYPE=text/html:<p>Herzliche Einladung zum Konzert des JBO Bö
 hmerwald!</p>
LOCATION:Vereinshaus Aigen
END:VEVENT
END:VCALENDAR
