BEGIN:VCALENDAR
VERSION:2.0
PRODID:-//TYPO3/NONSGML Calendarize//EN
BEGIN:VEVENT
UID:calendarize-konzert-in-der-kirche-5
DTSTAMP:20260424T231528
DTSTART:20261207T193000
DTEND:20261207T210000
SUMMARY:Konzert in der Kirche
DESCRIPTION:
X-ALT-DESC;FMTTYPE=text/html:
LOCATION:Pfarrkirche Prambachkirchen
END:VEVENT
END:VCALENDAR
