BEGIN:VCALENDAR
VERSION:2.0
PRODID:-//TYPO3/NONSGML Calendarize//EN
BEGIN:VEVENT
UID:calendarize-konzert-in-der-kirche-12
DTSTAMP:20260424T231557
DTSTART:20261121T193000
DTEND:20261121T210000
SUMMARY:Konzert in der Kirche MV Pechgraben
DESCRIPTION:
X-ALT-DESC;FMTTYPE=text/html:
LOCATION:Pfarrkirche Großraming
END:VEVENT
END:VCALENDAR
