BEGIN:VCALENDAR
VERSION:2.0
PRODID:-//TYPO3/NONSGML Calendarize//EN
BEGIN:VEVENT
UID:calendarize-konzert-im-pavillon-mv-ebelsberg-pichling-3
DTSTAMP:20260424T204505
DTSTART:20260813T190000
DTEND:20260813T200000
SUMMARY:Konzert im Pavillon - MV Ebelsberg-Pichling
DESCRIPTION:
X-ALT-DESC;FMTTYPE=text/html:
LOCATION:Musikpavillon (https://www.in-linz-erklingts.at)
END:VEVENT
END:VCALENDAR
