BEGIN:VCALENDAR
VERSION:2.0
PRODID:-//TYPO3/NONSGML Calendarize//EN
BEGIN:VEVENT
UID:calendarize-konzert-im-pavillon-magistratsmusik-linz-2
DTSTAMP:20260424T192051
DTSTART:20260701T190000
DTEND:20260701T200000
SUMMARY:Konzert im Pavillon - Magistratsmusik Linz 
DESCRIPTION:
X-ALT-DESC;FMTTYPE=text/html:
LOCATION:Musikpavillon (https://www.in-linz-erklingts.at)
END:VEVENT
END:VCALENDAR
