BEGIN:VCALENDAR
VERSION:2.0
PRODID:-//TYPO3/NONSGML Calendarize//EN
BEGIN:VEVENT
UID:calendarize-konzert-im-pavillon-linz-ag-musik-1
DTSTAMP:20260424T204502
DTSTART:20260716T190000
DTEND:20260716T200000
SUMMARY:Konzert im Pavillon - LINZ AG Musik 
DESCRIPTION:
X-ALT-DESC;FMTTYPE=text/html:
LOCATION:Musikpavillon (https://www.in-linz-erklingts.at)
END:VEVENT
END:VCALENDAR
