BEGIN:VCALENDAR
VERSION:2.0
PRODID:-//TYPO3/NONSGML Calendarize//EN
BEGIN:VEVENT
UID:calendarize-konzert-des-bjo-voecklabruck
DTSTAMP:20260425T004408
DTSTART:20270116T193000
DTEND:20270116T213000
SUMMARY:Konzert des BJO Vöcklabruck
DESCRIPTION:
X-ALT-DESC;FMTTYPE=text/html:
LOCATION:KUZ Lenzing (https://maps.app.goo.gl/B8KUYNPVNin5iFCk7)
END:VEVENT
END:VCALENDAR
