BEGIN:VCALENDAR
VERSION:2.0
PRODID:-//TYPO3/NONSGML Calendarize//EN
BEGIN:VEVENT
UID:calendarize-kirche-erklingt-1
DTSTAMP:20260425T004222
DTSTART:20261223T183000
DTEND:20261223T193000
SUMMARY:Kirche (er)klingt - MV Maria Neustift
DESCRIPTION:
X-ALT-DESC;FMTTYPE=text/html:
LOCATION:Maria Neustift
END:VEVENT
END:VCALENDAR
