BEGIN:VCALENDAR
VERSION:2.0
PRODID:-//TYPO3/NONSGML Calendarize//EN
BEGIN:VEVENT
UID:calendarize-jugendmarschwertung
DTSTAMP:20260424T191644
DTSTART:20260628T000000
DTEND:20260628T000000
SUMMARY:Jugendmarschwertung
DESCRIPTION:
X-ALT-DESC;FMTTYPE=text/html:
LOCATION:Inzersdorf
END:VEVENT
END:VCALENDAR
