BEGIN:VCALENDAR
VERSION:2.0
PRODID:-//TYPO3/NONSGML Calendarize//EN
BEGIN:VEVENT
UID:calendarize-jubilaeumskonzert-stadtkapelle-braunau
DTSTAMP:20260424T191834
DTSTART:20260430T192600
DTEND:20260430T220000
SUMMARY:Jubiläumskonzert Stadtkapelle Braunau
DESCRIPTION:
X-ALT-DESC;FMTTYPE=text/html:
LOCATION:Braunau am Inn
END:VEVENT
END:VCALENDAR
