BEGIN:VCALENDAR
VERSION:2.0
PRODID:-//TYPO3/NONSGML Calendarize//EN
BEGIN:VEVENT
UID:calendarize-jubilaeumskonzert-100-jahre
DTSTAMP:20260424T204238
DTSTART:20261029T193000
DTEND:20261029T220000
SUMMARY:Jubiläumskonzert 100 Jahre
DESCRIPTION:
X-ALT-DESC;FMTTYPE=text/html:
LOCATION:Neues Rathaus
END:VEVENT
END:VCALENDAR
