BEGIN:VCALENDAR
VERSION:2.0
PRODID:-//TYPO3/NONSGML Calendarize//EN
BEGIN:VEVENT
UID:calendarize-jubilaeumskonzert-10-jahre-musikverein-sankt-thomas
DTSTAMP:20260424T220700
DTSTART:20261107T160000
DTEND:20261107T230000
SUMMARY:Jubiläumskonzert 10 Jahre Musikverein Sankt Thomas
DESCRIPTION:
X-ALT-DESC;FMTTYPE=text/html:
LOCATION:Sankt Thomas
END:VEVENT
END:VCALENDAR
