BEGIN:VCALENDAR
VERSION:2.0
PRODID:-//TYPO3/NONSGML Calendarize//EN
BEGIN:VEVENT
UID:calendarize-jahreskonzert-5
DTSTAMP:20260424T204208
DTSTART:20261025T193000
DTEND:20261025T220000
SUMMARY:Jahreskonzert
DESCRIPTION:
X-ALT-DESC;FMTTYPE=text/html:
LOCATION:Neues Rathaus
END:VEVENT
END:VCALENDAR
