BEGIN:VCALENDAR
VERSION:2.0
PRODID:-//TYPO3/NONSGML Calendarize//EN
BEGIN:VEVENT
UID:calendarize-in-80-tagen-um-die-welt
DTSTAMP:20260424T192017
DTSTART:20260530T193000
DTEND:20260530T220000
SUMMARY:In 80 Tagen um die Welt
DESCRIPTION:
X-ALT-DESC;FMTTYPE=text/html:
LOCATION:Schloss Ebelsberg
END:VEVENT
END:VCALENDAR
