BEGIN:VCALENDAR
VERSION:2.0
PRODID:-//TYPO3/NONSGML Calendarize//EN
BEGIN:VEVENT
UID:calendarize-herbsttagung-des-ooebv-bezirk-schaerding
DTSTAMP:20260424T204238
DTSTART:20261105T200000
DTEND:20261105T220000
SUMMARY:Herbsttagung des OÖBV Bezirk Schärding
DESCRIPTION:
X-ALT-DESC;FMTTYPE=text/html:
LOCATION:GH Friedlwirt in St. Roman
END:VEVENT
END:VCALENDAR
